




BEGIN:VCALENDAR
VERSION:2.0
PRODID:-//groupegir - ECPv6.15.20//NONSGML v1.0//EN
CALSCALE:GREGORIAN
METHOD:PUBLISH
X-WR-CALNAME:groupegir
X-ORIGINAL-URL:https://groupegir.fr
X-WR-CALDESC:Évènements pour groupegir
REFRESH-INTERVAL;VALUE=DURATION:PT1H
X-Robots-Tag:noindex
X-PUBLISHED-TTL:PT1H
BEGIN:VTIMEZONE
TZID:Europe/Paris
BEGIN:DAYLIGHT
TZOFFSETFROM:+0100
TZOFFSETTO:+0200
TZNAME:CEST
DTSTART:20210328T010000
END:DAYLIGHT
BEGIN:STANDARD
TZOFFSETFROM:+0200
TZOFFSETTO:+0100
TZNAME:CET
DTSTART:20211031T010000
END:STANDARD
BEGIN:DAYLIGHT
TZOFFSETFROM:+0100
TZOFFSETTO:+0200
TZNAME:CEST
DTSTART:20220327T010000
END:DAYLIGHT
BEGIN:STANDARD
TZOFFSETFROM:+0200
TZOFFSETTO:+0100
TZNAME:CET
DTSTART:20221030T010000
END:STANDARD
BEGIN:DAYLIGHT
TZOFFSETFROM:+0100
TZOFFSETTO:+0200
TZNAME:CEST
DTSTART:20230326T010000
END:DAYLIGHT
BEGIN:STANDARD
TZOFFSETFROM:+0200
TZOFFSETTO:+0100
TZNAME:CET
DTSTART:20231029T010000
END:STANDARD
END:VTIMEZONE
BEGIN:VEVENT
DTSTART;TZID=Europe/Paris:20221125T093000
DTEND;TZID=Europe/Paris:20221125T140000
DTSTAMP:20260425T010503
CREATED:20221028T115801Z
LAST-MODIFIED:20221028T115845Z
UID:6074-1669368600-1669384800@groupegir.fr
SUMMARY:Réunion réseautage du GIR
DESCRIPTION:Réunion bimestrielle du GIR\, en présence du club d’entreprises LES VOISINS de Blois. \nIntervention du Service Economique de l’Etat en Région (SEER) de la Direction régionale de l’économie\, de l’emploi\, du travail et des solidarités (DREETS)\, sur FRANCE 2030. \nPrésentation de la plateforme de mobilité YACKA par son créateur Olivier LELONG \nCocktail-Déjeunatoire. \nVisite du Musée MATRA. \nEvénement réservé aux membres ou sur invitation. \n 
URL:https://groupegir.fr/event/reunion-reseautage-du-gir/
LOCATION:Romorantin
END:VEVENT
END:VCALENDAR