




BEGIN:VCALENDAR
VERSION:2.0
PRODID:-//groupegir - ECPv6.15.20//NONSGML v1.0//EN
CALSCALE:GREGORIAN
METHOD:PUBLISH
X-ORIGINAL-URL:https://groupegir.fr
X-WR-CALDESC:Évènements pour groupegir
REFRESH-INTERVAL;VALUE=DURATION:PT1H
X-Robots-Tag:noindex
X-PUBLISHED-TTL:PT1H
BEGIN:VTIMEZONE
TZID:Europe/Paris
BEGIN:DAYLIGHT
TZOFFSETFROM:+0100
TZOFFSETTO:+0200
TZNAME:CEST
DTSTART:20220327T010000
END:DAYLIGHT
BEGIN:STANDARD
TZOFFSETFROM:+0200
TZOFFSETTO:+0100
TZNAME:CET
DTSTART:20221030T010000
END:STANDARD
BEGIN:DAYLIGHT
TZOFFSETFROM:+0100
TZOFFSETTO:+0200
TZNAME:CEST
DTSTART:20230326T010000
END:DAYLIGHT
BEGIN:STANDARD
TZOFFSETFROM:+0200
TZOFFSETTO:+0100
TZNAME:CET
DTSTART:20231029T010000
END:STANDARD
BEGIN:DAYLIGHT
TZOFFSETFROM:+0100
TZOFFSETTO:+0200
TZNAME:CEST
DTSTART:20240331T010000
END:DAYLIGHT
BEGIN:STANDARD
TZOFFSETFROM:+0200
TZOFFSETTO:+0100
TZNAME:CET
DTSTART:20241027T010000
END:STANDARD
END:VTIMEZONE
BEGIN:VEVENT
DTSTART;TZID=Europe/Paris:20230609T110000
DTEND;TZID=Europe/Paris:20230609T120000
DTSTAMP:20260424T151506
CREATED:20230503T093518Z
LAST-MODIFIED:20230503T093518Z
UID:7672-1686308400-1686312000@groupegir.fr
SUMMARY:Réunion sensibilisation cybersécurité pour les sous-traitants.
DESCRIPTION:Pour pouvoir continuer à être référencé auprès des donneurs d’ordre de l’aéronautique et de la défense\, le sous-traitant doit pouvoir opérer avec un environnement digital et informatique sécurisé. \nChristophe SAUVION\, Chargé de mission sécurité économique auprès de la DREETS Centre-Val de Loire\, exposera aux chefs d’entreprises les impératifs à venir pour la sous-traitance concernant la cybersécurité. \n 
URL:https://groupegir.fr/event/reunion-sensibilisation-cybersecurite-pour-les-sous-traitants/
END:VEVENT
END:VCALENDAR