




BEGIN:VCALENDAR
VERSION:2.0
PRODID:-//groupegir - ECPv6.15.20//NONSGML v1.0//EN
CALSCALE:GREGORIAN
METHOD:PUBLISH
X-WR-CALNAME:groupegir
X-ORIGINAL-URL:https://groupegir.fr
X-WR-CALDESC:Évènements pour groupegir
REFRESH-INTERVAL;VALUE=DURATION:PT1H
X-Robots-Tag:noindex
X-PUBLISHED-TTL:PT1H
BEGIN:VTIMEZONE
TZID:Europe/Paris
BEGIN:DAYLIGHT
TZOFFSETFROM:+0100
TZOFFSETTO:+0200
TZNAME:CEST
DTSTART:20220327T010000
END:DAYLIGHT
BEGIN:STANDARD
TZOFFSETFROM:+0200
TZOFFSETTO:+0100
TZNAME:CET
DTSTART:20221030T010000
END:STANDARD
BEGIN:DAYLIGHT
TZOFFSETFROM:+0100
TZOFFSETTO:+0200
TZNAME:CEST
DTSTART:20230326T010000
END:DAYLIGHT
BEGIN:STANDARD
TZOFFSETFROM:+0200
TZOFFSETTO:+0100
TZNAME:CET
DTSTART:20231029T010000
END:STANDARD
BEGIN:DAYLIGHT
TZOFFSETFROM:+0100
TZOFFSETTO:+0200
TZNAME:CEST
DTSTART:20240331T010000
END:DAYLIGHT
BEGIN:STANDARD
TZOFFSETFROM:+0200
TZOFFSETTO:+0100
TZNAME:CET
DTSTART:20241027T010000
END:STANDARD
END:VTIMEZONE
BEGIN:VEVENT
DTSTART;TZID=Europe/Paris:20231010T090000
DTEND;TZID=Europe/Paris:20231012T170000
DTSTAMP:20260424T091526
CREATED:20221212T163003Z
LAST-MODIFIED:20221212T163003Z
UID:6467-1696928400-1697130000@groupegir.fr
SUMMARY:SEPEM Angers
DESCRIPTION:Le Rendez-vous industriel de la région CENTRE-OUEST. Le GIR et ses adhérents seront présents pendant ses 3 jours. \n\n468 exposants à votre service\n\n\n5 000 Visiteurs industriels\n\nTOP 5 DES INDUSTRIES REPRÉSENTÉES :\n\nMétallurgie / Sidérurgie\nIndustrie automobile / Equipementiers / Nautique\nFabrication de machines et Outillage\nMécanique / Chaudronnerie / Traitement de surface\nPlasturgie / Caoutchouc / Matériaux composites
URL:https://groupegir.fr/event/sepem-angers/
LOCATION:parc des expositions Angers\, 49480 Saint Sylvain-d'Anjou\, 49480\, France
ATTACH;FMTTYPE=image/png:https://groupegir.fr/wp-content/uploads/2022/12/Logo_SEPEM_Centre_Ouest_blocdate_2023-HD.png
END:VEVENT
END:VCALENDAR