




BEGIN:VCALENDAR
VERSION:2.0
PRODID:-//groupegir - ECPv6.15.20//NONSGML v1.0//EN
CALSCALE:GREGORIAN
METHOD:PUBLISH
X-ORIGINAL-URL:https://groupegir.fr
X-WR-CALDESC:Évènements pour groupegir
REFRESH-INTERVAL;VALUE=DURATION:PT1H
X-Robots-Tag:noindex
X-PUBLISHED-TTL:PT1H
BEGIN:VTIMEZONE
TZID:Europe/Paris
BEGIN:DAYLIGHT
TZOFFSETFROM:+0100
TZOFFSETTO:+0200
TZNAME:CEST
DTSTART:20220327T010000
END:DAYLIGHT
BEGIN:STANDARD
TZOFFSETFROM:+0200
TZOFFSETTO:+0100
TZNAME:CET
DTSTART:20221030T010000
END:STANDARD
BEGIN:DAYLIGHT
TZOFFSETFROM:+0100
TZOFFSETTO:+0200
TZNAME:CEST
DTSTART:20230326T010000
END:DAYLIGHT
BEGIN:STANDARD
TZOFFSETFROM:+0200
TZOFFSETTO:+0100
TZNAME:CET
DTSTART:20231029T010000
END:STANDARD
BEGIN:DAYLIGHT
TZOFFSETFROM:+0100
TZOFFSETTO:+0200
TZNAME:CEST
DTSTART:20240331T010000
END:DAYLIGHT
BEGIN:STANDARD
TZOFFSETFROM:+0200
TZOFFSETTO:+0100
TZNAME:CET
DTSTART:20241027T010000
END:STANDARD
END:VTIMEZONE
BEGIN:VEVENT
DTSTART;TZID=Europe/Paris:20231117T093000
DTEND;TZID=Europe/Paris:20231117T190000
DTSTAMP:20260424T054722
CREATED:20230718T094835Z
LAST-MODIFIED:20230718T095022Z
UID:8318-1700213400-1700247600@groupegir.fr
SUMMARY:Village Entreprises du Territoire à Chabris (36)
DESCRIPTION:La Communauté de Communes Chabris Pays de Bazelle\, accompagnée de BGE Indre\, DEV’UP Centre Val de Loire\, la DDETS/PP 36 et Pôle Emploi\, organisent conjointement le « Village Entreprises du territoire ». \nLe GIR sera présent avec ses adhérents MBDA\, FRANCE SURVOL\, AMDS GROUPE\, LA COMPAGNIE DU BLANC ARGENT\, L’IFCA et L’ECOLE DE PRODUCTION MAURICE LEROUX. \n  \n\n\n\n\n\n  \nPROGRAMME :  \n9h30 – 12h30 \nAccueil réservé aux scolaires \n12h30 – 14h00 \nDéjeuner (réservé aux exposants)  \net séance de networking \n14h00 – 19h00  \nOuverture du Village Entreprises  \nau grand public \nObjectifs de l’événement :\n\nPromouvoir le dynamisme économique du territoire\nMettre en valeur les entreprises du territoire et leur savoir-faire\nConnaître les organismes de formation du territoire\nDévelopper les marques employeurs des entreprises\nCréer du lien avec la population active et les collégiens et lycéens du territoire\nIdentifier des candidats à l’emploi et recruter\nfavoriser les échanges BtoB entre chefs d’entreprises d’un même territoire.
URL:https://groupegir.fr/event/village-entreprises-du-territoire-a-chabris-36/
END:VEVENT
END:VCALENDAR