




BEGIN:VCALENDAR
VERSION:2.0
PRODID:-//groupegir - ECPv6.15.20//NONSGML v1.0//EN
CALSCALE:GREGORIAN
METHOD:PUBLISH
X-ORIGINAL-URL:https://groupegir.fr
X-WR-CALDESC:Évènements pour groupegir
REFRESH-INTERVAL;VALUE=DURATION:PT1H
X-Robots-Tag:noindex
X-PUBLISHED-TTL:PT1H
BEGIN:VTIMEZONE
TZID:Europe/Paris
BEGIN:DAYLIGHT
TZOFFSETFROM:+0100
TZOFFSETTO:+0200
TZNAME:CEST
DTSTART:20230326T010000
END:DAYLIGHT
BEGIN:STANDARD
TZOFFSETFROM:+0200
TZOFFSETTO:+0100
TZNAME:CET
DTSTART:20231029T010000
END:STANDARD
BEGIN:DAYLIGHT
TZOFFSETFROM:+0100
TZOFFSETTO:+0200
TZNAME:CEST
DTSTART:20240331T010000
END:DAYLIGHT
BEGIN:STANDARD
TZOFFSETFROM:+0200
TZOFFSETTO:+0100
TZNAME:CET
DTSTART:20241027T010000
END:STANDARD
BEGIN:DAYLIGHT
TZOFFSETFROM:+0100
TZOFFSETTO:+0200
TZNAME:CEST
DTSTART:20250330T010000
END:DAYLIGHT
BEGIN:STANDARD
TZOFFSETFROM:+0200
TZOFFSETTO:+0100
TZNAME:CET
DTSTART:20251026T010000
END:STANDARD
END:VTIMEZONE
BEGIN:VEVENT
DTSTART;TZID=Europe/Paris:20241122T090000
DTEND;TZID=Europe/Paris:20241122T180000
DTSTAMP:20260423T110409
CREATED:20240710T134343Z
LAST-MODIFIED:20240710T134343Z
UID:10880-1732266000-1732298400@groupegir.fr
SUMMARY:Village entreprises de Chabris (36)
DESCRIPTION:La Communauté de Communes Chabris-Pays de Bazelle\, en partenariat avec BGE Berry-Touraine\, DEV’UP Centre Val de Loire\, la DDETSPP 36 et France Travail\, renouvelle l’organisation d’un Village Entreprises du territoire à Chabris. \nL’édition précédente a rencontré un grand succès avec la présence de 80 exposants\, entreprises et organismes de formation. \nPour poursuivre cette dynamique\, le Village Entreprises revient à Chabris le vendredi 22 novembre 2024.  \nNous vous invitons à rejoindre cet évènement économique majeur. \nLe GIR avec ses adhérents seront présents pour : \n\nPromouvoir le savoir-faire local\nmettre en relation leurs opportunités avec des candidats en recherche d’emploi ou de mobilité professionnelle\nSensibiliser le public scolaire aux métiers industriels\nÉchanger entre chefs d’entreprises.
URL:https://groupegir.fr/event/village-entreprises-de-chabris-36/
LOCATION:Gymnase de Chabris\, 6 rue de la république\, Chabris\, 36210
END:VEVENT
END:VCALENDAR