




BEGIN:VCALENDAR
VERSION:2.0
PRODID:-//groupegir - ECPv6.15.20//NONSGML v1.0//EN
CALSCALE:GREGORIAN
METHOD:PUBLISH
X-ORIGINAL-URL:https://groupegir.fr
X-WR-CALDESC:Évènements pour groupegir
REFRESH-INTERVAL;VALUE=DURATION:PT1H
X-Robots-Tag:noindex
X-PUBLISHED-TTL:PT1H
BEGIN:VTIMEZONE
TZID:Europe/Paris
BEGIN:DAYLIGHT
TZOFFSETFROM:+0100
TZOFFSETTO:+0200
TZNAME:CEST
DTSTART:20240331T010000
END:DAYLIGHT
BEGIN:STANDARD
TZOFFSETFROM:+0200
TZOFFSETTO:+0100
TZNAME:CET
DTSTART:20241027T010000
END:STANDARD
BEGIN:DAYLIGHT
TZOFFSETFROM:+0100
TZOFFSETTO:+0200
TZNAME:CEST
DTSTART:20250330T010000
END:DAYLIGHT
BEGIN:STANDARD
TZOFFSETFROM:+0200
TZOFFSETTO:+0100
TZNAME:CET
DTSTART:20251026T010000
END:STANDARD
BEGIN:DAYLIGHT
TZOFFSETFROM:+0100
TZOFFSETTO:+0200
TZNAME:CEST
DTSTART:20260329T010000
END:DAYLIGHT
BEGIN:STANDARD
TZOFFSETFROM:+0200
TZOFFSETTO:+0100
TZNAME:CET
DTSTART:20261025T010000
END:STANDARD
END:VTIMEZONE
BEGIN:VEVENT
DTSTART;TZID=Europe/Paris:20250227T100000
DTEND;TZID=Europe/Paris:20250227T120000
DTSTAMP:20260423T045937
CREATED:20250108T152520Z
LAST-MODIFIED:20250108T152520Z
UID:12196-1740650400-1740657600@groupegir.fr
SUMMARY:Visite de CERAMIQUES & REFRACTAIRES
DESCRIPTION:Depuis 1985 à Romorantin\, CÉRAMIQUES & RÉFRACTAIRES conçoit et fabrique des creusets pour la fonte de matériaux\, ainsi que des pièces techniques pour la chauffe et l’isolation thermique.\nPlus précisément\, l’équipe réalise des creusets pour le secteur de la bijouterie ou les cabinets dentaires. Elle conçoit également des pièces pour les fonderies ou les laboratoires de recherche. Le sous-traitant manufacture des pièces qui vont intégrer des machines ou pour des supports de résistances. L’entreprise fabrique des moufles pour les fours et des vis sans fin.\n\n \nAujourd’hui\, CERAMIQUES ET REFRACTAIRES se lance dans de nouveaux marchés\, avec la conception de produits en alumine pure\, en mullite : des briques isolantes pour les appareils à très haute température\, réfractaires jusqu’à 1700 ou 1800 degrés. Cette innovation pourrait remplacer les produits en fibres céramiques. En parallèle\, l’industriel développe une activité de fabrication de tasses en grès et d’urnes funéraires.\n\nAu programme ce jeudi 27 février :\n– 10h30 : Accueil\n– 10h45 : Présentation de l’entreprise par la directrice Delphine SAULAS\n– 11h : Visite de l’atelier et du laboratoire\n– 11h30 : Cocktail convivial \n  \nVisite sur invitation. Contact et renseignements => contact@groupegir.fr
URL:https://groupegir.fr/event/visite-de-ceramiques-refractaires/
LOCATION:Romorantin
ATTACH;FMTTYPE=image/png:https://groupegir.fr/wp-content/uploads/2025/01/Le-GIR-recrute-une-apprentie-10.png
END:VEVENT
END:VCALENDAR