




BEGIN:VCALENDAR
VERSION:2.0
PRODID:-//groupegir - ECPv6.15.20//NONSGML v1.0//EN
CALSCALE:GREGORIAN
METHOD:PUBLISH
X-ORIGINAL-URL:https://groupegir.fr
X-WR-CALDESC:Évènements pour groupegir
REFRESH-INTERVAL;VALUE=DURATION:PT1H
X-Robots-Tag:noindex
X-PUBLISHED-TTL:PT1H
BEGIN:VTIMEZONE
TZID:Europe/Paris
BEGIN:DAYLIGHT
TZOFFSETFROM:+0100
TZOFFSETTO:+0200
TZNAME:CEST
DTSTART:20240331T010000
END:DAYLIGHT
BEGIN:STANDARD
TZOFFSETFROM:+0200
TZOFFSETTO:+0100
TZNAME:CET
DTSTART:20241027T010000
END:STANDARD
BEGIN:DAYLIGHT
TZOFFSETFROM:+0100
TZOFFSETTO:+0200
TZNAME:CEST
DTSTART:20250330T010000
END:DAYLIGHT
BEGIN:STANDARD
TZOFFSETFROM:+0200
TZOFFSETTO:+0100
TZNAME:CET
DTSTART:20251026T010000
END:STANDARD
BEGIN:DAYLIGHT
TZOFFSETFROM:+0100
TZOFFSETTO:+0200
TZNAME:CEST
DTSTART:20260329T010000
END:DAYLIGHT
BEGIN:STANDARD
TZOFFSETFROM:+0200
TZOFFSETTO:+0100
TZNAME:CET
DTSTART:20261025T010000
END:STANDARD
END:VTIMEZONE
BEGIN:VEVENT
DTSTART;TZID=Europe/Paris:20250613T090000
DTEND;TZID=Europe/Paris:20250613T120000
DTSTAMP:20260423T003108
CREATED:20250303T092751Z
LAST-MODIFIED:20250327T133305Z
UID:12510-1749805200-1749816000@groupegir.fr
SUMMARY:Atelier d'aide à la  Certification aéronautique EN 9100
DESCRIPTION:La norme EN 9100 est le sésame pour la sous-traitance dans l’aéronautique et l’aérospatial. \nCertificateurs chevronnés\, Jean-Marc BERNARD (QUALIA2A) et Patrice ROTINAT (MEQUALIC) vous donneront les clés et les bonnes pratiques pour amorcer votre certification. \nAvec au programme de cette matinée : \n\nEN 9100 : rappel de la structure de la norme.\nComment interpréter la norme ?\nQuelles réponses apporter à ces exigences ?\nComment bien préparer et réussir vos audits (structure certificat\, rapport et durée d’audit…)\n\nInfos et inscriptions => contact@groupegir.fr
URL:https://groupegir.fr/event/atelier-aide-a-la-certification-en-9100/
LOCATION:food Val de Loire – Contres\, 17 Rue des Entrepreneurs\, Le Controis-en-Sologne\, 41700
ATTACH;FMTTYPE=image/png:https://groupegir.fr/wp-content/uploads/2025/03/Le-GIR-recrute-une-apprentie-88.png
END:VEVENT
END:VCALENDAR