




BEGIN:VCALENDAR
VERSION:2.0
PRODID:-//groupegir - ECPv6.15.20//NONSGML v1.0//EN
CALSCALE:GREGORIAN
METHOD:PUBLISH
X-WR-CALNAME:groupegir
X-ORIGINAL-URL:https://groupegir.fr
X-WR-CALDESC:Évènements pour groupegir
REFRESH-INTERVAL;VALUE=DURATION:PT1H
X-Robots-Tag:noindex
X-PUBLISHED-TTL:PT1H
BEGIN:VTIMEZONE
TZID:Europe/Paris
BEGIN:DAYLIGHT
TZOFFSETFROM:+0100
TZOFFSETTO:+0200
TZNAME:CEST
DTSTART:20240331T010000
END:DAYLIGHT
BEGIN:STANDARD
TZOFFSETFROM:+0200
TZOFFSETTO:+0100
TZNAME:CET
DTSTART:20241027T010000
END:STANDARD
BEGIN:DAYLIGHT
TZOFFSETFROM:+0100
TZOFFSETTO:+0200
TZNAME:CEST
DTSTART:20250330T010000
END:DAYLIGHT
BEGIN:STANDARD
TZOFFSETFROM:+0200
TZOFFSETTO:+0100
TZNAME:CET
DTSTART:20251026T010000
END:STANDARD
BEGIN:DAYLIGHT
TZOFFSETFROM:+0100
TZOFFSETTO:+0200
TZNAME:CEST
DTSTART:20260329T010000
END:DAYLIGHT
BEGIN:STANDARD
TZOFFSETFROM:+0200
TZOFFSETTO:+0100
TZNAME:CET
DTSTART:20261025T010000
END:STANDARD
END:VTIMEZONE
BEGIN:VEVENT
DTSTART;TZID=Europe/Paris:20250703T103000
DTEND;TZID=Europe/Paris:20250703T120000
DTSTAMP:20260422T232246
CREATED:20250327T132810Z
LAST-MODIFIED:20250623T102602Z
UID:12636-1751538600-1751544000@groupegir.fr
SUMMARY:Décarbonation et RSE - Visite de SEPTEM DECOLLETAGE
DESCRIPTION:Parlons responsabilité environnementale avec le GIR : participez à la visite de SEPTEM Mécanique de précision. \nFondée en 1994 par Pascal COURTAULT\, SEPTEM est experte en décolletage et en usinage toutes matières. \nEn 2023\, une extension a été élevée afin d’accueillir les moyens de production de MECAERO\, entreprise rachetée en 2020 par SEPTEM. Lors de cet agrandissement\, Pascal a mis en place des aménagements afin de limiter ses consommations d’énergies et son empreinte carbone. \nAvec notamment : \nLa mise en place d’une essoreuse dans le but de trier et de nettoyer ses chutes de métaux\, et ensuite réutiliser l’huile usagée. Les déchets (copeaux) souillés d’huile lors de l’usinage sont épurés à 96% par ce système d’essorage et sont transférés par un robot de manutention dans les containers dédiés. \n•  Une cuve de 6 000 litres est installée pour récupérer les eaux de pluies ; l’eau est ensuite filtrée et transformée en huile soluble avec un apport d’huile pour être réinjectée automatiquement dans différentes machines.\n   •  Deux aspirations traitent à 98 % les vapeurs d’huile produites lors de l’usinage sur les machines et l’air ainsi traité est réinjecté dans l’entreprise pour chauffer.\n   •  L’enrobé du parking a été partiellement enlevé pour installer des nids à gravelle (alvéolés) avec des gravillons permettant de laisser la pluie couler vers les nappes souterraines.\n   •  Pour l’accès aux transports lourds\, l’enrobé est conservé\, la pluie est canalisée et traitée dans un séparateur d’hydrocarbures avant de rejoindre la rivière.\n   •  Actuellement\, l’entreprise est en étude sur la pose de panneaux photovoltaïques.\n   •  L’entreprise SEPTEM a entièrement décarboné son chauffage : les aérothermes gaz ont été remplacés par des pompes à chaleur électriques et l’éclairage de l’atelier et des bureaux est entièrement en Leds. \nVisite réservée aux membres du GIR\, prévue le 3 juillet à 10h30. \nInfos et inscription obligatoire => contact@groupegir.fr
URL:https://groupegir.fr/event/decarbonation-et-rse-visite-de-septem-decolletage/
LOCATION:SEPTEM DECOLLETAGE
ATTACH;FMTTYPE=image/png:https://groupegir.fr/wp-content/uploads/2025/03/Le-GIR-recrute-une-apprentie-2025-05-12T154025.101.png
END:VEVENT
END:VCALENDAR