




BEGIN:VCALENDAR
VERSION:2.0
PRODID:-//groupegir - ECPv6.15.20//NONSGML v1.0//EN
CALSCALE:GREGORIAN
METHOD:PUBLISH
X-WR-CALNAME:groupegir
X-ORIGINAL-URL:https://groupegir.fr
X-WR-CALDESC:Évènements pour groupegir
REFRESH-INTERVAL;VALUE=DURATION:PT1H
X-Robots-Tag:noindex
X-PUBLISHED-TTL:PT1H
BEGIN:VTIMEZONE
TZID:Europe/Paris
BEGIN:DAYLIGHT
TZOFFSETFROM:+0100
TZOFFSETTO:+0200
TZNAME:CEST
DTSTART:20240331T010000
END:DAYLIGHT
BEGIN:STANDARD
TZOFFSETFROM:+0200
TZOFFSETTO:+0100
TZNAME:CET
DTSTART:20241027T010000
END:STANDARD
BEGIN:DAYLIGHT
TZOFFSETFROM:+0100
TZOFFSETTO:+0200
TZNAME:CEST
DTSTART:20250330T010000
END:DAYLIGHT
BEGIN:STANDARD
TZOFFSETFROM:+0200
TZOFFSETTO:+0100
TZNAME:CET
DTSTART:20251026T010000
END:STANDARD
BEGIN:DAYLIGHT
TZOFFSETFROM:+0100
TZOFFSETTO:+0200
TZNAME:CEST
DTSTART:20260329T010000
END:DAYLIGHT
BEGIN:STANDARD
TZOFFSETFROM:+0200
TZOFFSETTO:+0100
TZNAME:CET
DTSTART:20261025T010000
END:STANDARD
END:VTIMEZONE
BEGIN:VEVENT
DTSTART;TZID=Europe/Paris:20251204T090000
DTEND;TZID=Europe/Paris:20251204T120000
DTSTAMP:20260422T132228
CREATED:20250721T140748Z
LAST-MODIFIED:20250722T071556Z
UID:13296-1764838800-1764849600@groupegir.fr
SUMMARY:Visite de la Centrale Nucléaire de St-Laurent.
DESCRIPTION:Situé près de Blois\, le Centre Nucléaire de Production d’Électricité (CNPE) de Saint-Laurent dispose de deux réacteurs à eau pressurisée de 900 MW. En 2021\, ils ont produit 9 TWh\, soit 2\,5 % de la production nucléaire française\, couvrant près des deux tiers des besoins électriques de la région Centre-Val de Loire\, soit l’équivalent de 2 millions de foyers. \nCertifié ISO 14 001 depuis 2002\, le site emploie 1 150 personnes (800 salariés EDF et 350 prestataires)\, ce qui en fait un acteur industriel majeur localement. Le CNPE poursuit son programme de modernisation dans le cadre du grand carénage\, engagé depuis 2015 et prévu jusqu’en 2030. \nLe jeudi  4 décembre\, les adhérents du GIR pourront visiter ce site nucléaire\, notamment le système de refroidissement\, ainsi que le simulateur de salle de contrôle. \nVisite réservée aux membres\, sur réservation. \nRenseignements : contact@groupegir.fr
URL:https://groupegir.fr/event/visite-de-la-centrale-nucleaire-de-st-laurent/
LOCATION:CNPE St-Laurent-Nouan
ATTACH;FMTTYPE=image/png:https://groupegir.fr/wp-content/uploads/2025/07/Le-GIR-recrute-une-apprentie-2025-07-21T172428.122.png
END:VEVENT
END:VCALENDAR