




BEGIN:VCALENDAR
VERSION:2.0
PRODID:-//groupegir - ECPv6.15.20//NONSGML v1.0//EN
CALSCALE:GREGORIAN
METHOD:PUBLISH
X-ORIGINAL-URL:https://groupegir.fr
X-WR-CALDESC:Évènements pour groupegir
REFRESH-INTERVAL;VALUE=DURATION:PT1H
X-Robots-Tag:noindex
X-PUBLISHED-TTL:PT1H
BEGIN:VTIMEZONE
TZID:Europe/Paris
BEGIN:DAYLIGHT
TZOFFSETFROM:+0100
TZOFFSETTO:+0200
TZNAME:CEST
DTSTART:20210328T010000
END:DAYLIGHT
BEGIN:STANDARD
TZOFFSETFROM:+0200
TZOFFSETTO:+0100
TZNAME:CET
DTSTART:20211031T010000
END:STANDARD
BEGIN:DAYLIGHT
TZOFFSETFROM:+0100
TZOFFSETTO:+0200
TZNAME:CEST
DTSTART:20220327T010000
END:DAYLIGHT
BEGIN:STANDARD
TZOFFSETFROM:+0200
TZOFFSETTO:+0100
TZNAME:CET
DTSTART:20221030T010000
END:STANDARD
BEGIN:DAYLIGHT
TZOFFSETFROM:+0100
TZOFFSETTO:+0200
TZNAME:CEST
DTSTART:20230326T010000
END:DAYLIGHT
BEGIN:STANDARD
TZOFFSETFROM:+0200
TZOFFSETTO:+0100
TZNAME:CET
DTSTART:20231029T010000
END:STANDARD
END:VTIMEZONE
BEGIN:VEVENT
DTSTART;VALUE=DATE:20220923
DTEND;VALUE=DATE:20220924
DTSTAMP:20260425T022609
CREATED:20220801T134128Z
LAST-MODIFIED:20220801T134550Z
UID:3525-1663891200-1663977599@groupegir.fr
SUMMARY:Visite de l'entreprise GARNIER DURAND (18) + Repas convivial
DESCRIPTION:La société GARNIER DURAND exerce dans le Cher ses activités de micromécanique de haute précision depuis plus de 60 ans. Les membres du GIR vont visiter cette entreprise innovante. Ensuite\, un repas convivial entre adhérents et entrepreneurs de la Région est prévu à Vierzon. \nEvènement réservé aux adhérents du GIR Sologne Berry Touraine.
URL:https://groupegir.fr/event/visite-de-lentreprise-garnier-durand-18-repas-convivial/
END:VEVENT
END:VCALENDAR