




BEGIN:VCALENDAR
VERSION:2.0
PRODID:-//groupegir - ECPv6.15.20//NONSGML v1.0//EN
CALSCALE:GREGORIAN
METHOD:PUBLISH
X-ORIGINAL-URL:https://groupegir.fr
X-WR-CALDESC:Évènements pour groupegir
REFRESH-INTERVAL;VALUE=DURATION:PT1H
X-Robots-Tag:noindex
X-PUBLISHED-TTL:PT1H
BEGIN:VTIMEZONE
TZID:Europe/Paris
BEGIN:DAYLIGHT
TZOFFSETFROM:+0100
TZOFFSETTO:+0200
TZNAME:CEST
DTSTART:20220327T010000
END:DAYLIGHT
BEGIN:STANDARD
TZOFFSETFROM:+0200
TZOFFSETTO:+0100
TZNAME:CET
DTSTART:20221030T010000
END:STANDARD
BEGIN:DAYLIGHT
TZOFFSETFROM:+0100
TZOFFSETTO:+0200
TZNAME:CEST
DTSTART:20230326T010000
END:DAYLIGHT
BEGIN:STANDARD
TZOFFSETFROM:+0200
TZOFFSETTO:+0100
TZNAME:CET
DTSTART:20231029T010000
END:STANDARD
BEGIN:DAYLIGHT
TZOFFSETFROM:+0100
TZOFFSETTO:+0200
TZNAME:CEST
DTSTART:20240331T010000
END:DAYLIGHT
BEGIN:STANDARD
TZOFFSETFROM:+0200
TZOFFSETTO:+0100
TZNAME:CET
DTSTART:20241027T010000
END:STANDARD
END:VTIMEZONE
BEGIN:VEVENT
DTSTART;TZID=Europe/Paris:20230216T000000
DTEND;TZID=Europe/Paris:20230216T000000
DTSTAMP:20260424T192018
CREATED:20230130T153450Z
LAST-MODIFIED:20230130T153450Z
UID:7032-1676505600-1676505600@groupegir.fr
SUMMARY:BORGWARNER accueille le GIR
DESCRIPTION:Visite du Pôle INNOVATION de BORGWARNER à Blois. \nDécouvrez le savoir-faire local et l’évolution technique dans la filière automobile pour ces prochaines années. Et venez rencontrer les entrepreneurs de la Région dans une ambiance conviviale. \nEx-Delphi Technologies\, BORGWARNER et ses 900 salariés (CA de 293 millions d’euros en 2020) assurent la production en injecteurs diesel. Cependant\, depuis 2019\, afin d’accompagner l’évolution du secteur automobile\, le site blaisois travaille sur un système d’injection hydrogène. \n  \nVenez découvrir l’hydrogène « made in Blois » : \n•           Visite du Pôle INNOVATION \n•           Découverte du banc d’essai \n•           Visite du service de prototypage \n•           Cocktail \nCette visite est réservée aux membres du GIR. L’accès au site se fait sur invitation.
URL:https://groupegir.fr/event/borgwarner-accueille-le-gir/
ATTACH;FMTTYPE=image/png:https://groupegir.fr/wp-content/uploads/2023/01/Le-GIR-recrute-une-apprentie-20.png
END:VEVENT
END:VCALENDAR