




BEGIN:VCALENDAR
VERSION:2.0
PRODID:-//groupegir - ECPv6.15.20//NONSGML v1.0//EN
CALSCALE:GREGORIAN
METHOD:PUBLISH
X-ORIGINAL-URL:https://groupegir.fr
X-WR-CALDESC:Évènements pour groupegir
REFRESH-INTERVAL;VALUE=DURATION:PT1H
X-Robots-Tag:noindex
X-PUBLISHED-TTL:PT1H
BEGIN:VTIMEZONE
TZID:Europe/Paris
BEGIN:DAYLIGHT
TZOFFSETFROM:+0100
TZOFFSETTO:+0200
TZNAME:CEST
DTSTART:20220327T010000
END:DAYLIGHT
BEGIN:STANDARD
TZOFFSETFROM:+0200
TZOFFSETTO:+0100
TZNAME:CET
DTSTART:20221030T010000
END:STANDARD
BEGIN:DAYLIGHT
TZOFFSETFROM:+0100
TZOFFSETTO:+0200
TZNAME:CEST
DTSTART:20230326T010000
END:DAYLIGHT
BEGIN:STANDARD
TZOFFSETFROM:+0200
TZOFFSETTO:+0100
TZNAME:CET
DTSTART:20231029T010000
END:STANDARD
BEGIN:DAYLIGHT
TZOFFSETFROM:+0100
TZOFFSETTO:+0200
TZNAME:CEST
DTSTART:20240331T010000
END:DAYLIGHT
BEGIN:STANDARD
TZOFFSETFROM:+0200
TZOFFSETTO:+0100
TZNAME:CET
DTSTART:20241027T010000
END:STANDARD
END:VTIMEZONE
BEGIN:VEVENT
DTSTART;TZID=Europe/Paris:20230314T000000
DTEND;TZID=Europe/Paris:20230314T000000
DTSTAMP:20260424T175649
CREATED:20230223T130417Z
LAST-MODIFIED:20230223T130417Z
UID:7238-1678752000-1678752000@groupegir.fr
SUMMARY:CAILLAU reçoit le GIR
DESCRIPTION: Découvrez un savoir-faire unique dans la conception et la fabrication de colliers et de connexions de haute technologie. Et venez rencontrer les entrepreneurs de la Région dans une ambiance conviviale. \n                                               \n\nFondée en 1919\, CAILLAU est devenue un acteur majeur dans l’industrie automobile\, ainsi que sur le marché de la fixation aéronautique. CAILLAU innove sans cesse en créant de nouveaux produits\, process et technologies\, avec par exemple le développement de ses propres outils d’emboutissage prototypes et série.\nCertifiée ISO 9001\, EN 9100\, ISO 14001 et IATF 16949\, CAILLAU collabore avec l’équipementier blaisois BORGWARNER dans la mise en place de son système d’injection hydrogène. \nVisite réservée aux adhérents du GIR. \n                                                                                       
URL:https://groupegir.fr/event/caillau-recoit-le-gir/
LOCATION:caillau\, Romorantin-Lanthenay\, 41200
ATTACH;FMTTYPE=image/png:https://groupegir.fr/wp-content/uploads/2023/02/Le-GIR-recrute-une-apprentie-32.png
END:VEVENT
BEGIN:VEVENT
DTSTART;TZID=Europe/Paris:20230328T080000
DTEND;TZID=Europe/Paris:20230330T170000
DTSTAMP:20260424T175649
CREATED:20230130T152213Z
LAST-MODIFIED:20230130T152309Z
UID:7028-1679990400-1680195600@groupegir.fr
SUMMARY:SIFER 2023
DESCRIPTION:Le SIFER 2023 réalise sa 13ème édition en mars prochain.  Le Salon International de l’Industrie Ferroviaire se déroulera du 28 au 30 mars à Lille Grand Palais et réunira les acteurs incontournables de la filière. \nLe GIR et ses adhérents seront présents pour parler réseautage et sous-traitance.
URL:https://groupegir.fr/event/le-gir-au-sifer-2023/
LOCATION:Grand Palais à Lille\, Grand Palais\, Lille\, France
ATTACH;FMTTYPE=image/png:https://groupegir.fr/wp-content/uploads/2023/01/telechargement-20.png
END:VEVENT
END:VCALENDAR