




BEGIN:VCALENDAR
VERSION:2.0
PRODID:-//groupegir - ECPv6.15.20//NONSGML v1.0//EN
CALSCALE:GREGORIAN
METHOD:PUBLISH
X-WR-CALNAME:groupegir
X-ORIGINAL-URL:https://groupegir.fr
X-WR-CALDESC:Évènements pour groupegir
REFRESH-INTERVAL;VALUE=DURATION:PT1H
X-Robots-Tag:noindex
X-PUBLISHED-TTL:PT1H
BEGIN:VTIMEZONE
TZID:Europe/Paris
BEGIN:DAYLIGHT
TZOFFSETFROM:+0100
TZOFFSETTO:+0200
TZNAME:CEST
DTSTART:20220327T010000
END:DAYLIGHT
BEGIN:STANDARD
TZOFFSETFROM:+0200
TZOFFSETTO:+0100
TZNAME:CET
DTSTART:20221030T010000
END:STANDARD
BEGIN:DAYLIGHT
TZOFFSETFROM:+0100
TZOFFSETTO:+0200
TZNAME:CEST
DTSTART:20230326T010000
END:DAYLIGHT
BEGIN:STANDARD
TZOFFSETFROM:+0200
TZOFFSETTO:+0100
TZNAME:CET
DTSTART:20231029T010000
END:STANDARD
BEGIN:DAYLIGHT
TZOFFSETFROM:+0100
TZOFFSETTO:+0200
TZNAME:CEST
DTSTART:20240331T010000
END:DAYLIGHT
BEGIN:STANDARD
TZOFFSETFROM:+0200
TZOFFSETTO:+0100
TZNAME:CET
DTSTART:20241027T010000
END:STANDARD
END:VTIMEZONE
BEGIN:VEVENT
DTSTART;TZID=Europe/Paris:20230605T120000
DTEND;TZID=Europe/Paris:20230605T140000
DTSTAMP:20260424T131551
CREATED:20230512T141744Z
LAST-MODIFIED:20230512T141744Z
UID:7708-1685966400-1685973600@groupegir.fr
SUMMARY:Déjeuner "Attirer les talents grâce à la marque employeur."
DESCRIPTION:En partenariat avec l’UIMM et le Club du Loir-et-Cher les entreprises s’engagent\, nous sommes heureux de vous inviter à un déjeuner d’échanges\, animé par Pierre Montigny de l’APEC\, autour de la thématique : \n                                         » Attirer et fidéliser ses talents grâce à la marque employeur «  \n \nCe déjeuner se tiendra le lundi 5 juin de 12h à 14h au restaurant Rayon de Sologne\, Le Grand Liot à Langon-sur-Cher\, près de Romorantin. \nPlaces limitées. Accès à l’événement uniquement réservé aux personnes inscrites. \nInfos et contact : contact@groupegir.fr
URL:https://groupegir.fr/event/dejeuner-attirer-les-talents-grace-a-la-marque-employeur/
LOCATION:Grand Liot\,\, Route de Romorantin\, Langon-sur-Cher\, 41320
END:VEVENT
BEGIN:VEVENT
DTSTART;TZID=Europe/Paris:20230609T110000
DTEND;TZID=Europe/Paris:20230609T120000
DTSTAMP:20260424T131551
CREATED:20230503T093518Z
LAST-MODIFIED:20230503T093518Z
UID:7672-1686308400-1686312000@groupegir.fr
SUMMARY:Réunion sensibilisation cybersécurité pour les sous-traitants.
DESCRIPTION:Pour pouvoir continuer à être référencé auprès des donneurs d’ordre de l’aéronautique et de la défense\, le sous-traitant doit pouvoir opérer avec un environnement digital et informatique sécurisé. \nChristophe SAUVION\, Chargé de mission sécurité économique auprès de la DREETS Centre-Val de Loire\, exposera aux chefs d’entreprises les impératifs à venir pour la sous-traitance concernant la cybersécurité. \n 
URL:https://groupegir.fr/event/reunion-sensibilisation-cybersecurite-pour-les-sous-traitants/
END:VEVENT
BEGIN:VEVENT
DTSTART;TZID=Europe/Paris:20230619T100000
DTEND;TZID=Europe/Paris:20230625T170000
DTSTAMP:20260424T131551
CREATED:20221209T153129Z
LAST-MODIFIED:20221209T153129Z
UID:6415-1687168800-1687712400@groupegir.fr
SUMMARY:SIAE Salon du Bourget 2023
DESCRIPTION:Rendez-vous au 54ème édition du salon de l’Aéronautique et de l’Espace. Après 4 ans d’absence\, les entreprises qui comptent se retrouvent à Paris du 19 au 25 juin 2023. \nLe GIR et ses adhérents seront présents pour parler réseautage\, sous-traitance et compétences.
URL:https://groupegir.fr/event/siae-salon-du-bourget-2023/
LOCATION:Paris le bourget\, Parc des expositions\, Le Bourget\, 93440\, France
ATTACH;FMTTYPE=image/png:https://groupegir.fr/wp-content/uploads/2022/12/SALON-DU-BOURGET-GENERIQUE.png
END:VEVENT
END:VCALENDAR