




BEGIN:VCALENDAR
VERSION:2.0
PRODID:-//groupegir - ECPv6.15.20//NONSGML v1.0//EN
CALSCALE:GREGORIAN
METHOD:PUBLISH
X-WR-CALNAME:groupegir
X-ORIGINAL-URL:https://groupegir.fr
X-WR-CALDESC:Évènements pour groupegir
REFRESH-INTERVAL;VALUE=DURATION:PT1H
X-Robots-Tag:noindex
X-PUBLISHED-TTL:PT1H
BEGIN:VTIMEZONE
TZID:Europe/Paris
BEGIN:DAYLIGHT
TZOFFSETFROM:+0100
TZOFFSETTO:+0200
TZNAME:CEST
DTSTART:20230326T010000
END:DAYLIGHT
BEGIN:STANDARD
TZOFFSETFROM:+0200
TZOFFSETTO:+0100
TZNAME:CET
DTSTART:20231029T010000
END:STANDARD
BEGIN:DAYLIGHT
TZOFFSETFROM:+0100
TZOFFSETTO:+0200
TZNAME:CEST
DTSTART:20240331T010000
END:DAYLIGHT
BEGIN:STANDARD
TZOFFSETFROM:+0200
TZOFFSETTO:+0100
TZNAME:CET
DTSTART:20241027T010000
END:STANDARD
BEGIN:DAYLIGHT
TZOFFSETFROM:+0100
TZOFFSETTO:+0200
TZNAME:CEST
DTSTART:20250330T010000
END:DAYLIGHT
BEGIN:STANDARD
TZOFFSETFROM:+0200
TZOFFSETTO:+0100
TZNAME:CET
DTSTART:20251026T010000
END:STANDARD
END:VTIMEZONE
BEGIN:VEVENT
DTSTART;TZID=Europe/Paris:20240920T090000
DTEND;TZID=Europe/Paris:20240920T170000
DTSTAMP:20260423T122214
CREATED:20240423T071922Z
LAST-MODIFIED:20240423T071922Z
UID:10330-1726822800-1726851600@groupegir.fr
SUMMARY:Visite de la Centrale nucléaire de Saint-Laurent-Nouan
DESCRIPTION:Le GIR et ses adhérents iront visiter la CNPE de Saint-Laurent-Nouan en Loir-et-Cher. \nL’occasion de découvrir un des fleurons de la production électrique française\, et de parler sous-traitance dans la filière du nucléaire. \nInfos et contact => contact@groupegir.fr
URL:https://groupegir.fr/event/visite-de-la-centrale-nucleaire-de-saint-laurent-nouan/
LOCATION:CNPE St-Laurent-Nouan
END:VEVENT
END:VCALENDAR