




BEGIN:VCALENDAR
VERSION:2.0
PRODID:-//groupegir - ECPv6.15.20//NONSGML v1.0//EN
CALSCALE:GREGORIAN
METHOD:PUBLISH
X-ORIGINAL-URL:https://groupegir.fr
X-WR-CALDESC:Évènements pour groupegir
REFRESH-INTERVAL;VALUE=DURATION:PT1H
X-Robots-Tag:noindex
X-PUBLISHED-TTL:PT1H
BEGIN:VTIMEZONE
TZID:Europe/Paris
BEGIN:DAYLIGHT
TZOFFSETFROM:+0100
TZOFFSETTO:+0200
TZNAME:CEST
DTSTART:20230326T010000
END:DAYLIGHT
BEGIN:STANDARD
TZOFFSETFROM:+0200
TZOFFSETTO:+0100
TZNAME:CET
DTSTART:20231029T010000
END:STANDARD
BEGIN:DAYLIGHT
TZOFFSETFROM:+0100
TZOFFSETTO:+0200
TZNAME:CEST
DTSTART:20240331T010000
END:DAYLIGHT
BEGIN:STANDARD
TZOFFSETFROM:+0200
TZOFFSETTO:+0100
TZNAME:CET
DTSTART:20241027T010000
END:STANDARD
BEGIN:DAYLIGHT
TZOFFSETFROM:+0100
TZOFFSETTO:+0200
TZNAME:CEST
DTSTART:20250330T010000
END:DAYLIGHT
BEGIN:STANDARD
TZOFFSETFROM:+0200
TZOFFSETTO:+0100
TZNAME:CET
DTSTART:20251026T010000
END:STANDARD
END:VTIMEZONE
BEGIN:VEVENT
DTSTART;TZID=Europe/Paris:20241107T100000
DTEND;TZID=Europe/Paris:20241107T120000
DTSTAMP:20260423T093316
CREATED:20240827T135024Z
LAST-MODIFIED:20240827T135024Z
UID:11125-1730973600-1730980800@groupegir.fr
SUMMARY:Information sur la sécurité en entreprise.
DESCRIPTION:La sécurité au travail est un enjeu majeur pour les entreprises\, en particulier les industries et services aux industries. \nEn partenariat avec ADECCO et l’APAVE\, le GIR propose aux industriels de se retrouver pour échanger et débattre sur la sécurité en entreprise. Sébastien BRIQUE\, directeur de SKV à Romorantin\, apportera son témoignage. L’APAVE et ADECCO compléteront la matinée avec les bonnes pratiques et des solutions. La matinée sera conclue par un cocktail convivial. \nÉvénement avec inscription obligatoire.
URL:https://groupegir.fr/event/information-sur-la-securite-en-entreprise-avec-le-gir/
LOCATION:Villeherviers
END:VEVENT
BEGIN:VEVENT
DTSTART;TZID=Europe/Paris:20241122T090000
DTEND;TZID=Europe/Paris:20241122T180000
DTSTAMP:20260423T093316
CREATED:20240710T134343Z
LAST-MODIFIED:20240710T134343Z
UID:10880-1732266000-1732298400@groupegir.fr
SUMMARY:Village entreprises de Chabris (36)
DESCRIPTION:La Communauté de Communes Chabris-Pays de Bazelle\, en partenariat avec BGE Berry-Touraine\, DEV’UP Centre Val de Loire\, la DDETSPP 36 et France Travail\, renouvelle l’organisation d’un Village Entreprises du territoire à Chabris. \nL’édition précédente a rencontré un grand succès avec la présence de 80 exposants\, entreprises et organismes de formation. \nPour poursuivre cette dynamique\, le Village Entreprises revient à Chabris le vendredi 22 novembre 2024.  \nNous vous invitons à rejoindre cet évènement économique majeur. \nLe GIR avec ses adhérents seront présents pour : \n\nPromouvoir le savoir-faire local\nmettre en relation leurs opportunités avec des candidats en recherche d’emploi ou de mobilité professionnelle\nSensibiliser le public scolaire aux métiers industriels\nÉchanger entre chefs d’entreprises.
URL:https://groupegir.fr/event/village-entreprises-de-chabris-36/
LOCATION:Gymnase de Chabris\, 6 rue de la république\, Chabris\, 36210
END:VEVENT
BEGIN:VEVENT
DTSTART;TZID=Europe/Paris:20241129T140000
DTEND;TZID=Europe/Paris:20241129T190000
DTSTAMP:20260423T093316
CREATED:20240924T075933Z
LAST-MODIFIED:20240924T075933Z
UID:11266-1732888800-1732906800@groupegir.fr
SUMMARY:HANDICAP ou PAS CAP
DESCRIPTION:Le Tennis Club de Romorantin accueille l’évènement « Handicap et parcours professionnel : comment assurer une vraie égalité des chances ? ».\nUn après-midi de sensibilisation a pour objectif de mieux comprendre les différents handicaps\, connaître les partenaires qui peuvent être sollicités.\n\nNous proposons avec la Mission locale de découvrir le village des partenaires\, avec les ateliers suivants :\n\n\nSensibilisation aux « DYS »\nSensibilisation au handicap moteur (SOLOGNE Handisport) : parcours de mobilité en extérieur\, tennis fauteuil et basket fauteuil.\nQuizz\nPrésentation des moyens de compensation avec ERGOSANTE.
URL:https://groupegir.fr/event/handicap-ou-pas-cap/
LOCATION:Tennis club de Romorantin
END:VEVENT
END:VCALENDAR