




BEGIN:VCALENDAR
VERSION:2.0
PRODID:-//groupegir - ECPv6.15.20//NONSGML v1.0//EN
CALSCALE:GREGORIAN
METHOD:PUBLISH
X-ORIGINAL-URL:https://groupegir.fr
X-WR-CALDESC:Évènements pour groupegir
REFRESH-INTERVAL;VALUE=DURATION:PT1H
X-Robots-Tag:noindex
X-PUBLISHED-TTL:PT1H
BEGIN:VTIMEZONE
TZID:Europe/Paris
BEGIN:DAYLIGHT
TZOFFSETFROM:+0100
TZOFFSETTO:+0200
TZNAME:CEST
DTSTART:20240331T010000
END:DAYLIGHT
BEGIN:STANDARD
TZOFFSETFROM:+0200
TZOFFSETTO:+0100
TZNAME:CET
DTSTART:20241027T010000
END:STANDARD
BEGIN:DAYLIGHT
TZOFFSETFROM:+0100
TZOFFSETTO:+0200
TZNAME:CEST
DTSTART:20250330T010000
END:DAYLIGHT
BEGIN:STANDARD
TZOFFSETFROM:+0200
TZOFFSETTO:+0100
TZNAME:CET
DTSTART:20251026T010000
END:STANDARD
BEGIN:DAYLIGHT
TZOFFSETFROM:+0100
TZOFFSETTO:+0200
TZNAME:CEST
DTSTART:20260329T010000
END:DAYLIGHT
BEGIN:STANDARD
TZOFFSETFROM:+0200
TZOFFSETTO:+0100
TZNAME:CET
DTSTART:20261025T010000
END:STANDARD
END:VTIMEZONE
BEGIN:VEVENT
DTSTART;TZID=Europe/Paris:20250918T100000
DTEND;TZID=Europe/Paris:20250918T120000
DTSTAMP:20260422T181908
CREATED:20250623T101159Z
LAST-MODIFIED:20250623T102124Z
UID:13109-1758189600-1758196800@groupegir.fr
SUMMARY:Mobilité hydrogène : Visite de PHINIA Blois.
DESCRIPTION:Découvrez le savoir-faire local et l’évolution technique dans la filière automobile pour ces prochaines années. Et venez rencontrer les entrepreneurs de la Région dans une ambiance conviviale. \nPHINIA et ses 900 salariés assurent la production de systèmes d’injection pour les filières automobile et aéronautique. Depuis 2019\, afin d’accompagner l’évolution du secteur automobile\, le site blaisois travaille sur un système d’injection hydrogène. Les équipes (ex BorgWarner\, ex Delphi technologies) travaillent à démontrer que les moteurs à combustion restent une solution d’avenir s’ils sont alimentés en carburant hydrogène qui n’émet qu’une infime quantité de CO2. Et aujourd’hui\, des véhicules de démonstration circulent en Loir-et-Cher. Un utilitaire propulsé par un moteur à hydrogène a notamment réalisé en 2024 un trajet de plus de 1000 km en 12 heures.\nVenez découvrir l’hydrogène « made in Blois ! » \nRDV le JEUDI 18 SEPTEMBRE de 10h à Midi  \nProgramme : \n– 10h à 10h30 : café d’accueil et présentation en salle de PHINIA et de ses projets \n– 10h30 à midi : visite du site \nVisite réservée aux membres du GIR. \nInfos et réservation : contact@groupegir.fr
URL:https://groupegir.fr/event/visite-de-phinia/
LOCATION:PHINIA BLOIS
ATTACH;FMTTYPE=image/png:https://groupegir.fr/wp-content/uploads/2025/06/Le-GIR-recrute-une-apprentie-2025-06-11T111320.691.png
END:VEVENT
END:VCALENDAR