




BEGIN:VCALENDAR
VERSION:2.0
PRODID:-//groupegir - ECPv6.15.20//NONSGML v1.0//EN
CALSCALE:GREGORIAN
METHOD:PUBLISH
X-ORIGINAL-URL:https://groupegir.fr
X-WR-CALDESC:Évènements pour groupegir
REFRESH-INTERVAL;VALUE=DURATION:PT1H
X-Robots-Tag:noindex
X-PUBLISHED-TTL:PT1H
BEGIN:VTIMEZONE
TZID:Europe/Paris
BEGIN:DAYLIGHT
TZOFFSETFROM:+0100
TZOFFSETTO:+0200
TZNAME:CEST
DTSTART:20240331T010000
END:DAYLIGHT
BEGIN:STANDARD
TZOFFSETFROM:+0200
TZOFFSETTO:+0100
TZNAME:CET
DTSTART:20241027T010000
END:STANDARD
BEGIN:DAYLIGHT
TZOFFSETFROM:+0100
TZOFFSETTO:+0200
TZNAME:CEST
DTSTART:20250330T010000
END:DAYLIGHT
BEGIN:STANDARD
TZOFFSETFROM:+0200
TZOFFSETTO:+0100
TZNAME:CET
DTSTART:20251026T010000
END:STANDARD
BEGIN:DAYLIGHT
TZOFFSETFROM:+0100
TZOFFSETTO:+0200
TZNAME:CEST
DTSTART:20260329T010000
END:DAYLIGHT
BEGIN:STANDARD
TZOFFSETFROM:+0200
TZOFFSETTO:+0100
TZNAME:CET
DTSTART:20261025T010000
END:STANDARD
END:VTIMEZONE
BEGIN:VEVENT
DTSTART;TZID=Europe/Paris:20251007T090000
DTEND;TZID=Europe/Paris:20251007T120000
DTSTAMP:20260422T164713
CREATED:20250710T135050Z
LAST-MODIFIED:20250722T091140Z
UID:13265-1759827600-1759838400@groupegir.fr
SUMMARY:Visite de MBDA
DESCRIPTION:COMPLET \n  \nLes membres du groupement pourront visiter le site MBDA. \nLeader européen des systèmes d’armements complexes\, MBDA répond aux besoins des États. En France\, plus de 6 700 collaborateurs développent des solutions qui contribuent à la protection et à la supériorité opérationnelle des forces sur le terrain. \nFace aux forts enjeux de production actuels et futurs pour le secteur de la défense\, MBDA a mis en place un plan d’investissements ambitieux de près d’1 milliard d’euros dans l’hexagone\, venant servir le développement de ses infrastructures\, tout en accompagnant la croissance de ses effectifs.
URL:https://groupegir.fr/event/visite-de-mbda-2/
ATTACH;FMTTYPE=image/jpeg:https://groupegir.fr/wp-content/uploads/2023/11/EuroNaval-mbda.jpg
END:VEVENT
BEGIN:VEVENT
DTSTART;TZID=Europe/Paris:20251009T090000
DTEND;TZID=Europe/Paris:20251009T123000
DTSTAMP:20260422T164713
CREATED:20250722T090831Z
LAST-MODIFIED:20250722T091355Z
UID:13300-1760000400-1760013000@groupegir.fr
SUMMARY:Atelier participatif "Et si vous révolutionnez vos missions RH grâce à l’IA ? "
DESCRIPTION:Que vous soyez un recruteur chevronné\, un responsable RH ou un chef d’entreprise\, les ressources humaines peuvent parfois demander énormément d’efforts et être source de frustration. Avec l’IA et ChatGPT\, simplifiez vos processus RH. Participez à un atelier qui vous permettra d’utiliser l’Intelligence artificielle dans votre quotidien RH. \nUne matinée proposée au cœur du site blésois d’ENERFLUX\, et animée par Stephane MAUFRAS\, fondateur de CADRIA. \nProgramme : \n\n9h00 : accueil café\n9h15-11h45 : atelier\n\n\n11h45 – 12h30 : visite des ateliers d’ENERFLUX\n\n\nAtelier gratuit\, participation sous conditions\, réservée aux membres du GIR. \nRenseignements : contact@groupegir.fr
URL:https://groupegir.fr/event/atelier-participatif-et-si-vous-revolutionniez-vos-missions-rh-grace-a-lia/
LOCATION:ENERFLUX
ATTACH;FMTTYPE=image/png:https://groupegir.fr/wp-content/uploads/2025/07/Le-GIR-recrute-une-apprentie-2025-07-10T163719.596.png
END:VEVENT
BEGIN:VEVENT
DTSTART;TZID=Europe/Paris:20251013T120000
DTEND;TZID=Europe/Paris:20251013T134500
DTSTAMP:20260422T164713
CREATED:20250630T151245Z
LAST-MODIFIED:20250630T151409Z
UID:13159-1760356800-1760363100@groupegir.fr
SUMMARY:Déjeuner participatif : Quels impacts a la transition écologique sur vos pratiques RH ?
DESCRIPTION:Le GIR\, l’UIMM\, le Club des Entreprises s’engagent de Loir-et-Cher\, le territoire Industrie Sologne Val de Cher et la GPECT Sologne Val de Cher vous proposent un déjeuner à la découverte des impacts de la Transition Écologique sur vos pratiques et vos entreprises. \nParticipez à un déjeuner collaboratif animé par Pierre Montigny de l’APEC le Lundi 13 octobre 2025 de 12h à 13h45\, dans les locaux de RE-SOURCE by INDRA. \nLa réunion sera suivie par une visite de l’entreprise de 45 minutes pour les volontaires. \nPlaces limitées. \nRéservation obligatoire et renseignements : contact@groupegir.fr
URL:https://groupegir.fr/event/quels-impacts-a-la-transition-ecologique-sur-vos-pratiques-rh/
LOCATION:RE-SOURCE INDRA
ATTACH;FMTTYPE=image/png:https://groupegir.fr/wp-content/uploads/2025/06/LESE-recrutement-et-transition-ecologique-GIR.png
END:VEVENT
END:VCALENDAR